BEGIN:VCALENDAR
VERSION:2.0
PRODID:-//Cross Street Arts - ECPv6.15.20//NONSGML v1.0//EN
CALSCALE:GREGORIAN
METHOD:PUBLISH
X-ORIGINAL-URL:https://crossstreetarts.com
X-WR-CALDESC:Events for Cross Street Arts
REFRESH-INTERVAL;VALUE=DURATION:PT1H
X-Robots-Tag:noindex
X-PUBLISHED-TTL:PT1H
BEGIN:VTIMEZONE
TZID:Europe/London
BEGIN:DAYLIGHT
TZOFFSETFROM:+0000
TZOFFSETTO:+0100
TZNAME:BST
DTSTART:20230326T010000
END:DAYLIGHT
BEGIN:STANDARD
TZOFFSETFROM:+0100
TZOFFSETTO:+0000
TZNAME:GMT
DTSTART:20231029T010000
END:STANDARD
BEGIN:DAYLIGHT
TZOFFSETFROM:+0000
TZOFFSETTO:+0100
TZNAME:BST
DTSTART:20240331T010000
END:DAYLIGHT
BEGIN:STANDARD
TZOFFSETFROM:+0100
TZOFFSETTO:+0000
TZNAME:GMT
DTSTART:20241027T010000
END:STANDARD
BEGIN:DAYLIGHT
TZOFFSETFROM:+0000
TZOFFSETTO:+0100
TZNAME:BST
DTSTART:20250330T010000
END:DAYLIGHT
BEGIN:STANDARD
TZOFFSETFROM:+0100
TZOFFSETTO:+0000
TZNAME:GMT
DTSTART:20251026T010000
END:STANDARD
END:VTIMEZONE
BEGIN:VEVENT
DTSTART;VALUE=DATE:20240203
DTEND;VALUE=DATE:20240429
DTSTAMP:20260422T205616
CREATED:20240108T235133Z
LAST-MODIFIED:20240108T235156Z
UID:3939-1706918400-1714348799@crossstreetarts.com
SUMMARY:Manchester Open 2024
DESCRIPTION:Taking place every two years\, the Open Exhibition is a celebration of Greater Manchester’s creative talent. Between Sat 3 Feb and Sun 28 Apr 2024\, the HOME Gallery walls will be filled with 480 artworks created by artists from across Greater Manchester\, including artists from Cross Street Arts. \nThe artwork is selected by a panel consisting of art experts and community representatives.
URL:https://crossstreetarts.com/event/manchester-open-2024/
LOCATION:HOME Gallery\, 2 Tony Wilson Place\, Manchester\, M15 4FN
ATTACH;FMTTYPE=image/jpeg:https://crossstreetarts.com/wp-content/uploads/2024/01/Man-Open.jpg
END:VEVENT
END:VCALENDAR