BEGIN:VCALENDAR
VERSION:2.0
PRODID:-//Cross Street Arts - ECPv6.15.20//NONSGML v1.0//EN
CALSCALE:GREGORIAN
METHOD:PUBLISH
X-ORIGINAL-URL:https://crossstreetarts.com
X-WR-CALDESC:Events for Cross Street Arts
REFRESH-INTERVAL;VALUE=DURATION:PT1H
X-Robots-Tag:noindex
X-PUBLISHED-TTL:PT1H
BEGIN:VTIMEZONE
TZID:Europe/London
BEGIN:DAYLIGHT
TZOFFSETFROM:+0000
TZOFFSETTO:+0100
TZNAME:BST
DTSTART:20230326T010000
END:DAYLIGHT
BEGIN:STANDARD
TZOFFSETFROM:+0100
TZOFFSETTO:+0000
TZNAME:GMT
DTSTART:20231029T010000
END:STANDARD
BEGIN:DAYLIGHT
TZOFFSETFROM:+0000
TZOFFSETTO:+0100
TZNAME:BST
DTSTART:20240331T010000
END:DAYLIGHT
BEGIN:STANDARD
TZOFFSETFROM:+0100
TZOFFSETTO:+0000
TZNAME:GMT
DTSTART:20241027T010000
END:STANDARD
BEGIN:DAYLIGHT
TZOFFSETFROM:+0000
TZOFFSETTO:+0100
TZNAME:BST
DTSTART:20250330T010000
END:DAYLIGHT
BEGIN:STANDARD
TZOFFSETFROM:+0100
TZOFFSETTO:+0000
TZNAME:GMT
DTSTART:20251026T010000
END:STANDARD
END:VTIMEZONE
BEGIN:VEVENT
DTSTART;VALUE=DATE:20240427
DTEND;VALUE=DATE:20240602
DTSTAMP:20260422T205609
CREATED:20240429T233615Z
LAST-MODIFIED:20240429T233615Z
UID:3958-1714176000-1717286399@crossstreetarts.com
SUMMARY:Why I Paint - Twelve Painters Explain
DESCRIPTION:Why I Paint – Twelve Painters Explain \nA group show with including Cross Street artists – Andy Smith\, Joe Kiney Whitmore and Jane Fairhurst. Open 27th April to 1st June\, Fridays & Saturdays: 1-5pm (and by appointment)
URL:https://crossstreetarts.com/event/why-i-paint-twelve-painters-explain/
LOCATION:Hive Gallery\, Unit S\, Upper Ground Floor\, Market Place Shopping Centre\, Bolton\, BL1 2AL
ATTACH;FMTTYPE=image/jpeg:https://crossstreetarts.com/wp-content/uploads/2024/04/e5fc6899-62f2-45bb-adac-22e482a805db.jpg
END:VEVENT
END:VCALENDAR