BEGIN:VCALENDAR
VERSION:2.0
PRODID:-//Cross Street Arts - ECPv6.15.20//NONSGML v1.0//EN
CALSCALE:GREGORIAN
METHOD:PUBLISH
X-ORIGINAL-URL:https://crossstreetarts.com
X-WR-CALDESC:Events for Cross Street Arts
REFRESH-INTERVAL;VALUE=DURATION:PT1H
X-Robots-Tag:noindex
X-PUBLISHED-TTL:PT1H
BEGIN:VTIMEZONE
TZID:Europe/London
BEGIN:DAYLIGHT
TZOFFSETFROM:+0000
TZOFFSETTO:+0100
TZNAME:BST
DTSTART:20230326T010000
END:DAYLIGHT
BEGIN:STANDARD
TZOFFSETFROM:+0100
TZOFFSETTO:+0000
TZNAME:GMT
DTSTART:20231029T010000
END:STANDARD
BEGIN:DAYLIGHT
TZOFFSETFROM:+0000
TZOFFSETTO:+0100
TZNAME:BST
DTSTART:20240331T010000
END:DAYLIGHT
BEGIN:STANDARD
TZOFFSETFROM:+0100
TZOFFSETTO:+0000
TZNAME:GMT
DTSTART:20241027T010000
END:STANDARD
BEGIN:DAYLIGHT
TZOFFSETFROM:+0000
TZOFFSETTO:+0100
TZNAME:BST
DTSTART:20250330T010000
END:DAYLIGHT
BEGIN:STANDARD
TZOFFSETFROM:+0100
TZOFFSETTO:+0000
TZNAME:GMT
DTSTART:20251026T010000
END:STANDARD
BEGIN:DAYLIGHT
TZOFFSETFROM:+0000
TZOFFSETTO:+0100
TZNAME:BST
DTSTART:20260329T010000
END:DAYLIGHT
BEGIN:STANDARD
TZOFFSETFROM:+0100
TZOFFSETTO:+0000
TZNAME:GMT
DTSTART:20261025T010000
END:STANDARD
END:VTIMEZONE
BEGIN:VEVENT
DTSTART;VALUE=DATE:20240916
DTEND;VALUE=DATE:20250301
DTSTAMP:20260420T174652
CREATED:20241007T224910Z
LAST-MODIFIED:20250130T011317Z
UID:3989-1726444800-1740787199@crossstreetarts.com
SUMMARY:25 in ‘24 open air exhibition
DESCRIPTION:We are pleased to announce that Cross Street Arts 25 in ‘24 open air exhibition is now on show in our outdoor space Believe Square in Wigan Town Centre. The exhibition was first displayed outside Wigan Market and has now moved to Believe Square. It features work by 23 of our members. Make sure you pop on down and have a look.
URL:https://crossstreetarts.com/event/25-in-24-open-air-exhibition/
LOCATION:Believe Square\, Wigan Life Centre North\, Wigan\, WN1 1NH
ATTACH;FMTTYPE=image/png:https://crossstreetarts.com/wp-content/uploads/2024/10/IMG_2267-1.png
END:VEVENT
BEGIN:VEVENT
DTSTART;VALUE=DATE:20240920
DTEND;VALUE=DATE:20250920
DTSTAMP:20260420T174652
CREATED:20240829T003539Z
LAST-MODIFIED:20241030T004257Z
UID:3978-1726790400-1758326399@crossstreetarts.com
SUMMARY:Cross Street Arts is 25 in 2024!
DESCRIPTION:Cross Street Arts is 25 in 2024! \n\n\nWe will be running events from September 2024 – September 2025 to celebrate 25 amazing years of creativity\, community\, and art of Cross Street Arts. \nWatch this events page for updates! \n 
URL:https://crossstreetarts.com/event/cross-street-arts-is-25-in-2024/
LOCATION:Wigan
ATTACH;FMTTYPE=image/png:https://crossstreetarts.com/wp-content/uploads/2024/08/cross-25_2.png
END:VEVENT
END:VCALENDAR